BEGIN:VCALENDAR
VERSION:2.0
PRODID:-//Carol Stock Kranowitz - ECPv6.15.14//NONSGML v1.0//EN
CALSCALE:GREGORIAN
METHOD:PUBLISH
X-WR-CALNAME:Carol Stock Kranowitz
X-ORIGINAL-URL:https://out-of-sync-child.com
X-WR-CALDESC:Events for Carol Stock Kranowitz
REFRESH-INTERVAL;VALUE=DURATION:PT1H
X-Robots-Tag:noindex
X-PUBLISHED-TTL:PT1H
BEGIN:VTIMEZONE
TZID:America/New_York
BEGIN:DAYLIGHT
TZOFFSETFROM:-0500
TZOFFSETTO:-0400
TZNAME:EDT
DTSTART:20150308T070000
END:DAYLIGHT
BEGIN:STANDARD
TZOFFSETFROM:-0400
TZOFFSETTO:-0500
TZNAME:EST
DTSTART:20151101T060000
END:STANDARD
BEGIN:DAYLIGHT
TZOFFSETFROM:-0500
TZOFFSETTO:-0400
TZNAME:EDT
DTSTART:20160313T070000
END:DAYLIGHT
BEGIN:STANDARD
TZOFFSETFROM:-0400
TZOFFSETTO:-0500
TZNAME:EST
DTSTART:20161106T060000
END:STANDARD
BEGIN:DAYLIGHT
TZOFFSETFROM:-0500
TZOFFSETTO:-0400
TZNAME:EDT
DTSTART:20170312T070000
END:DAYLIGHT
BEGIN:STANDARD
TZOFFSETFROM:-0400
TZOFFSETTO:-0500
TZNAME:EST
DTSTART:20171105T060000
END:STANDARD
BEGIN:DAYLIGHT
TZOFFSETFROM:-0500
TZOFFSETTO:-0400
TZNAME:EDT
DTSTART:20180311T070000
END:DAYLIGHT
BEGIN:STANDARD
TZOFFSETFROM:-0400
TZOFFSETTO:-0500
TZNAME:EST
DTSTART:20181104T060000
END:STANDARD
BEGIN:DAYLIGHT
TZOFFSETFROM:-0500
TZOFFSETTO:-0400
TZNAME:EDT
DTSTART:20190310T070000
END:DAYLIGHT
BEGIN:STANDARD
TZOFFSETFROM:-0400
TZOFFSETTO:-0500
TZNAME:EST
DTSTART:20191103T060000
END:STANDARD
BEGIN:DAYLIGHT
TZOFFSETFROM:-0500
TZOFFSETTO:-0400
TZNAME:EDT
DTSTART:20200308T070000
END:DAYLIGHT
BEGIN:STANDARD
TZOFFSETFROM:-0400
TZOFFSETTO:-0500
TZNAME:EST
DTSTART:20201101T060000
END:STANDARD
END:VTIMEZONE
BEGIN:VEVENT
DTSTART;TZID=America/New_York:20190215T123000
DTEND;TZID=America/New_York:20190215T140000
DTSTAMP:20260419T133650
CREATED:20181114T193003Z
LAST-MODIFIED:20181114T193145Z
UID:10000039-1550233800-1550239200@out-of-sync-child.com
SUMMARY:The Out-of-Sync Child -- Sponsored by Future Horizons
DESCRIPTION:Autism conference with Jed Baker\, PhD\, and Cara Koscinski\, MOT\, OTR/L. \nTo register\, click here.
URL:https://out-of-sync-child.com/event/the-out-of-sync-child-sponsored-by-future-horizons/
LOCATION:Charlotte\, North Carolina
ORGANIZER;CN="Teresa Corey":MAILTO:teresa@fhautism.com
END:VEVENT
BEGIN:VEVENT
DTSTART;VALUE=DATE:20190202
DTEND;VALUE=DATE:20190203
DTSTAMP:20260419T133650
CREATED:20181008T200113Z
LAST-MODIFIED:20190114T230611Z
UID:10000034-1549065600-1549151999@out-of-sync-child.com
SUMMARY:The Out-of-Sync Child Grows Up -- Sponsored by Golisano Children's Hospital
DESCRIPTION:All-day\, co-presentation with Kim Clairy\, an occupational therapist who has autism.  The sponsor is the Pediatric Specialty Clinic of Golisano Children’s Hospital of Southwest Florida. \nFor information about the conference\, click here.
URL:https://collierlibrary.evanced.info/signup/EventDetails?EventId=38300&#038;nomobile=1&#038;ag=842&#038;backTo=Calendar&#038;startDate=2019/02/01#new_tab
LOCATION:Naples\, Florida
END:VEVENT
BEGIN:VEVENT
DTSTART;TZID=America/New_York:20181204T190000
DTEND;TZID=America/New_York:20181204T200000
DTSTAMP:20260419T133650
CREATED:20181008T195055Z
LAST-MODIFIED:20181008T195345Z
UID:10000033-1543950000-1543953600@out-of-sync-child.com
SUMMARY:The Ripple Effect of SPD -- Sponsored by GWU Graduate School
DESCRIPTION:Presentation about how a child’s SPD affects the family — for The George Washington University Graduate School’s “Human Development: Child and Family” class.
URL:https://out-of-sync-child.com/event/the-ripple-effect-of-sensory-processing-disorder/
LOCATION:Alexandria\, Virginia
END:VEVENT
BEGIN:VEVENT
DTSTART;VALUE=DATE:20181106
DTEND;VALUE=DATE:20181107
DTSTAMP:20260419T133650
CREATED:20181018T144307Z
LAST-MODIFIED:20181018T144636Z
UID:10000038-1541462400-1541548799@out-of-sync-child.com
SUMMARY:Understanding & Honoring Kids' Sensory Sensitivities -- Sponsored by Parenting ADHD & Autism Academy
DESCRIPTION:“Understanding and Honoring Kids’ Sensory Sensitivities” — insights into how SPD affects children with autism and how parents can support them.  Carol’s discussion on Tuesday\, November 6\, is one of 31 topics at this free\, on-line Parenting Autism Summit.  The summit runs November 5 – 9\, 2018.  Sponsored by Penny Williams and Sarah Wayland\, PhD\, at the Parenting ADHD & Autism Academy.   Click here.
URL:https://out-of-sync-child.com/event/understanding-honoring-kids-sensory-sensitivities-sponsored-by-parenting-adhd-autism-academy/
END:VEVENT
BEGIN:VEVENT
DTSTART;TZID=America/New_York:20181020T123000
DTEND;TZID=America/New_York:20181020T133000
DTSTAMP:20260419T133650
CREATED:20181009T021605Z
LAST-MODIFIED:20181009T021708Z
UID:10000037-1540038600-1540042200@out-of-sync-child.com
SUMMARY:Sensory-Motor Strategies for Body\, Mind\, and Spirit -- Sponsored by Adat Shalom Torah School
DESCRIPTION:Workshop for Torah School teachers at Adat Shalom Reconstructionist Congregation.
URL:https://out-of-sync-child.com/event/sensory-motor-strategies-for-body-mind-and-spirit-sponsored-by-adat-shalom-torah-school/
LOCATION:Bethesda\, Maryland
END:VEVENT
BEGIN:VEVENT
DTSTART;TZID=America/New_York:20181011T101500
DTEND;TZID=America/New_York:20181011T111500
DTSTAMP:20260419T133650
CREATED:20180626T155351Z
LAST-MODIFIED:20180822T201845Z
UID:10000031-1539252900-1539256500@out-of-sync-child.com
SUMMARY:Out and About with the Out-of-Sync Child -- Sponsored by STAR Institute
DESCRIPTION:At STAR Institute’s 21st International “3S” (Strategies\, Science & Success) Symposium\, which focuses this year on Regulation: Foundation to Function.  (The Symposium begins on Friday\, October 12.) \nSTAR Institute has teamed up with local community partner\, Building Bridges Therapy\, for this year’s Pre-Symposium Parent Workshop (8:30 a.m. – 2:30 p.m.)\, titled Sensory Processing Disorder: How It Affects the Child\, Parent and the World Around Them.  Click here. \n 
URL:https://www.spdstar.org/basic/2018-parent-workshop-speakers?_zs=EhgLe1&#038;_zl=I5Ev4#new_tab
LOCATION:Atlanta\, Georgia
END:VEVENT
BEGIN:VEVENT
DTSTART;TZID=America/New_York:20180921T090000
DTEND;TZID=America/New_York:20180921T120000
DTSTAMP:20260419T133650
CREATED:20180824T210321Z
LAST-MODIFIED:20180906T151524Z
UID:10000032-1537520400-1537531200@out-of-sync-child.com
SUMMARY:The Out-of-Sync Child: SPD -- Sponsored by Teva School
DESCRIPTION:In-service training for staff of the Shomrei Adamah program of Teva School.  Teva School (an arm of Hazon\, the non-profit “Jewish lab for sustainability”) offers environmental education programs for middle-schoolers that immerse them in the natural world and provide structured activities to sensitize them to nature’s rhythms.  Experiential learning fosters Jewish\, ecological\, and food sustainability.
URL:https://out-of-sync-child.com/event/the-out-of-sync-child-spd-sponsored-by-teva-school/
LOCATION:Falls Village\, Connecticut
END:VEVENT
BEGIN:VEVENT
DTSTART;VALUE=DATE:20180915
DTEND;VALUE=DATE:20180917
DTSTAMP:20260419T133650
CREATED:20180201T174454Z
LAST-MODIFIED:20180824T211235Z
UID:10000028-1536969600-1537142399@out-of-sync-child.com
SUMMARY:40 Fun & Functional Activities to Get Kids "In Sync" -- Sponsored by Wyoming OTA
DESCRIPTION:Two-day\, joint presentation by Carol Kranowitz and Virginia Spielmann\, OTR\, Associate Director of the STAR Institute in Denver.  (Virginia will speak on “Sensory Integration and Affective Processing Across the Life Span.”) \nClick here for registration information. \n 
URL:https://wyota.org/files/2018/08/2018-Conference-Registration-Form.pdf#new_tab
LOCATION:Casper\, Wyoming
END:VEVENT
BEGIN:VEVENT
DTSTART;TZID=America/New_York:20180614T183000
DTEND;TZID=America/New_York:20180615T160000
DTSTAMP:20260419T133650
CREATED:20180201T173116Z
LAST-MODIFIED:20180227T185133Z
UID:10000027-1529001000-1529078400@out-of-sync-child.com
SUMMARY:Sensory Savvy Kids -- Sponsored by South Dakota OTA
DESCRIPTION:At Sanford USD Medical Center. \nThursday\, June 14\, 6:30 – 8:00 p.m.    Sensory Savvy Activities at Home and School.  Evening presentation for parents or caregivers and their child.  Carol Kranowitz and Julia Berry\, Head of School at St. Columba’s Nursery School in Washington\, DC\, will invite the group to participate in hands-on\, three-dimensional activities for all kids\, especially those with sensory processing challenges\, autism\, and other developmental delays. \nFriday\, June 15\, 8:30 a.m. – 4:00 p.m.  Making Sense of Children’s Senses.  All-day presentation by Carol and Julia for occupational therapists\, speech therapists\, physical therapists\, other clinicians\, students\, and more. The program will include: \n\n— SPD Basics\n— What We See in School\n— Sensory Challenges and Sensible Solutions\n— The Big Outdoors\n\nClick here for information about registration.
URL:http://www.sdota.org/#new_tab
LOCATION:Sioux Falls\, South Dakota
END:VEVENT
BEGIN:VEVENT
DTSTART;TZID=America/New_York:20180608T083000
DTEND;TZID=America/New_York:20180608T100000
DTSTAMP:20260419T133650
CREATED:20180330T152825Z
LAST-MODIFIED:20180330T153018Z
UID:10000030-1528446600-1528452000@out-of-sync-child.com
SUMMARY:Getting Kids in Sync -- Sponsored by Bob Vossoughi\, Starry Night
DESCRIPTION:Discussion with Dr. Elysa Marco at Starry Starry Morning Community Breakfast.  The event will benefit children: \n— In the UCSF Sensory Neurodevelopment & Autism Program (SNAP) at the University of California/San Francisco \n— At the Sensory Treatment And Research (STAR) Institute in Denver. \n  \nContact Bob Vossoughi at (480) 292-2124 or bobby@bavventures.com
URL:https://out-of-sync-child.com/event/getting-kids-in-sync-sponsored-by-bob-vossoughi-starry-night/
LOCATION:Original Joe’s Westlake\, Daly City\, California
ORGANIZER;CN="Bobby Vossoughi":MAILTO:bobby@bavventures.com
END:VEVENT
BEGIN:VEVENT
DTSTART;TZID=America/New_York:20180602T143000
DTEND;TZID=America/New_York:20180602T153000
DTSTAMP:20260419T133650
CREATED:20180201T170504Z
LAST-MODIFIED:20180423T201301Z
UID:10000026-1527949800-1527953400@out-of-sync-child.com
SUMMARY:A Serendipitous Career in Sensory Processing Disorder -- Hopkins School
DESCRIPTION:At Reunion at Carol’s alma mater\, The Hopkins School.  Following her talk\, Carol will receive the Distinguished Alumna Award at a reception starting at 3:30.  Everyone is welcome! \nClick here to learn more about Hopkins.
URL:https://www.hopkins.edu/page
LOCATION:New Haven\, Connecticut
END:VEVENT
BEGIN:VEVENT
DTSTART;TZID=America/New_York:20180510T180000
DTEND;TZID=America/New_York:20180510T200000
DTSTAMP:20260419T133650
CREATED:20180201T165204Z
LAST-MODIFIED:20180201T165556Z
UID:10000025-1525975200-1525982400@out-of-sync-child.com
SUMMARY:Sensory Challenges and Sensible Solutions -- Sponsored by The Wolf School
DESCRIPTION:Workshop for parents and members of The Wolf School community \nClick here to learn more
URL:http://www.thewolfschool.org/about/#new_tab
LOCATION:East Providence\, Rhode Island
END:VEVENT
BEGIN:VEVENT
DTSTART;TZID=America/New_York:20180505T084500
DTEND;TZID=America/New_York:20180505T161500
DTSTAMP:20260419T133650
CREATED:20180330T145548Z
LAST-MODIFIED:20180422T150322Z
UID:10000029-1525509900-1525536900@out-of-sync-child.com
SUMMARY:Getting Kids In Sync with Fun & Functional Sensory-Motor Activities -- Sponsored by Orange County Community College OTA Program
DESCRIPTION:Two workshops at the 40th anniversary celebration of the Orange County Community College’s Occupational Therapy Assistant program: \n— 8:45 – 10:15 a.m. \n— 2:45 – 4:15 p.m. \nThe college is part of SUNY (The State University of New York). \nWorkshops are primarily for OTs providing intervention for schoolchildren and adults.  However\, the workshops are open to the public\, and everyone is welcome to register and attend. \nFor information about registration\, click here to contact Flo Hannes\, OTR. \n 
URL:http://www.sunyorange.edu/ota/news.shtml#new_tab
LOCATION:Orange County Community College\, Middletown\, NY
END:VEVENT
BEGIN:VEVENT
DTSTART;TZID=America/New_York:20180324T083000
DTEND;TZID=America/New_York:20180324T113000
DTSTAMP:20260419T133650
CREATED:20170814T223621Z
LAST-MODIFIED:20180216T170840Z
UID:10000001-1521880200-1521891000@out-of-sync-child.com
SUMMARY:Keynote and Workshop -- Sponsored by Lifespan
DESCRIPTION:8:45 – 9:55 a.m. Keynote address at the annual Parenting Matters conference sponsored by Lifespan Community Health Institute of Bradley Hospital.   The keynote title is\, Is It ADHD\, OCD\, LMNOP\, or XYZ?  No\, It’s SPD!  Sensory Processing Disorder and Its Look-Alikes. \n10:00 – 10:30 a.m. Book signing \n10:30 – 11:30 a.m.   Workshop entitled\, The Out-of-Sync Child: Sensory Challenges and Sensible Solutions \nClick here for information about registration.
URL:https://www.lifespan.org/centers-services/parenting-matters#new_tab
LOCATION:Barrington\, Rhode Island
END:VEVENT
BEGIN:VEVENT
DTSTART;TZID=America/New_York:20180227T180000
DTEND;TZID=America/New_York:20180227T193000
DTSTAMP:20260419T133650
CREATED:20180201T163448Z
LAST-MODIFIED:20180201T165441Z
UID:10000024-1519754400-1519759800@out-of-sync-child.com
SUMMARY:The Art of Treating the Out-of-Sync Child -- GWU Child Art Therapy Class
DESCRIPTION:Workshop for The George Washington University Graduate School’s Child Art Therapy class \nClick here to learn more about the Art Therapy class
URL:https://arttherapy.columbian.gwu.edu/
LOCATION:Alexandria\, Virginia
END:VEVENT
BEGIN:VEVENT
DTSTART;TZID=America/New_York:20180123T183000
DTEND;TZID=America/New_York:20180123T200000
DTSTAMP:20260419T133650
CREATED:20171209T185007Z
LAST-MODIFIED:20171209T185418Z
UID:10000012-1516732200-1516737600@out-of-sync-child.com
SUMMARY:A "Think Different Debinar" about SPD -- Interview with Dr. Deb Wilson
DESCRIPTION:Please tune in as Dr. Deb Wilson and Carol talk about SPD and its effects on children at home and school.  Deb Wilson is the Founder of “S’cool Moves\,” a reading specialist\, a collaboration coach\, and a passionate advocate for children who think and learn differently.  For information about the Debinar\,  Click here.
URL:https://www.crowdcast.io/e/think-different-debinar-6#new_tab
END:VEVENT
BEGIN:VEVENT
DTSTART;TZID=America/New_York:20171111T090000
DTEND;TZID=America/New_York:20171111T103000
DTSTAMP:20260419T133650
CREATED:20170722T212139Z
LAST-MODIFIED:20170722T212303Z
UID:10000002-1510390800-1510396200@out-of-sync-child.com
SUMMARY:Integrating a Sensory Lifestyle at Home and School -- Sponsored by DSNMC and F.R.I.E.N.D.S.
DESCRIPTION:Keynote address at the 9th Techniques for Success (TFS) Conference for educators.  The TFS co-hosts are the Down Syndrome Network of Montgomery County (DSNMC) and the Family Resource Education and Information Network for Down Syndrome (F.R.I.E.N.D.S.) of Frederick County\, Maryland. \n  \nClick here for information about registration.
URL:http://www.techniquesforsuccess.org/#new_tab
LOCATION:Frederick\, Maryland
END:VEVENT
BEGIN:VEVENT
DTSTART;TZID=America/New_York:20171005T104500
DTEND;TZID=America/New_York:20171005T234500
DTSTAMP:20260419T133650
CREATED:20170518T191846Z
LAST-MODIFIED:20170518T221705Z
UID:10000007-1507200300-1507247100@out-of-sync-child.com
SUMMARY:It's Elementary!  Simple\, Fun Activities to Get School-Aged Kids In Sync -- Sponsored by The STAR Institute for SPD
DESCRIPTION:An hour-long presentation for parents\, focusing on children ages five to eleven. Part of an all-day Parent Workshop: Relationships and SPD Across the Lifespan in Greenwood Village. \nThis pre-conference event occurs the day before The STAR Institute’s 20th International “3S” Symposium: Strategies\, Science & Success\, in Denver. \nClick here for information about the Parent Workshop in Greenwood Village\, Thursday\, October 5th. \nClick here for information about the STAR Institute’s “3S” Symposium in Denver\, October 6-7.
URL:http://members.spdstar.org/events/EventDetails.aspx?id=947390&#038;group=#new_tab
LOCATION:Greenwood Village\, Colorado (Denver)
END:VEVENT
BEGIN:VEVENT
DTSTART;TZID=America/New_York:20170625T103000
DTEND;TZID=America/New_York:20170625T120000
DTSTAMP:20260419T133650
CREATED:20170518T173157Z
LAST-MODIFIED:20170530T200423Z
UID:10000013-1498386600-1498392000@out-of-sync-child.com
SUMMARY:Helping the Out-of-Sync Child and Adolescent with SPD -- Sponsored by The Focus Foundation
DESCRIPTION:Ninety-minute program at the Parent Conference\, “Optimizing the Outcome of X & Y Variations in Children.”  The mission of The Focus Foundation is to increase awareness and early detection of X & Y chromosomal disorders\, dyslexia and developmental dyspraxia\, and to discover innovative treatments for recovery.
URL:http://thefocusfoundation.org/our-promise/#new_tab
LOCATION:Davidsonville\, Maryland (Annapolis area)
END:VEVENT
BEGIN:VEVENT
DTSTART;VALUE=DATE:20170616
DTEND;VALUE=DATE:20170617
DTSTAMP:20260419T133650
CREATED:20170518T171643Z
LAST-MODIFIED:20170518T173659Z
UID:10000014-1497571200-1497657599@out-of-sync-child.com
SUMMARY:The Out-of-Sync Child: Sensory Challenges & Sensible Solutions -- Sponsored by Lauren's Institute for Education
DESCRIPTION:All-day staff training on sensory processing at Lauren’s Institute for Education (L.I.F.E.) in Gilbert\, Arizona.   The mission of L.I.F.E. is to improve the quality of life for differently-abled children and adults.
URL:http://laurensinstitute.org/#new_tab
LOCATION:Gilbert\, Arizona
END:VEVENT
BEGIN:VEVENT
DTSTART;TZID=America/New_York:20170602T133000
DTEND;TZID=America/New_York:20170602T160000
DTSTAMP:20260419T133650
CREATED:20170209T160924Z
LAST-MODIFIED:20170518T194818Z
UID:10000006-1496410200-1496419200@out-of-sync-child.com
SUMMARY:2 events -- Barnard College\, Distinguished Alumna Award ceremony
DESCRIPTION:During Barnard Reunion 2017 events: \n1:30 p.m. — Ceremony to receive the Distinguished Alumna Award\, “presented each year at Reunion to an alumna who personifies the ideals of a liberal arts education and has achieved considerable public or professional distinction and recognition in her chosen field.” \n3:00-4:00 p.m. — “A Serendipitous Career in Sensory Processing Disorder”     A talk about the unexpected path from being an English major and dancer at Barnard to becoming knowledgable about Sensory Processing Disorder.
URL:http://http://reunion.barnard.edu/s/1133/16/index.aspx?sid=1133&#038;gid=1&#038;pgid=3727#new_tab
LOCATION:Barnard College\, New York City\, NY
END:VEVENT
BEGIN:VEVENT
DTSTART;VALUE=DATE:20170525
DTEND;VALUE=DATE:20170527
DTSTAMP:20260419T133650
CREATED:20161123T192740Z
LAST-MODIFIED:20161206T193317Z
UID:10000011-1495670400-1495764000@out-of-sync-child.com
SUMMARY:2 Events -- Sponsored by Rock Island Arsenal
DESCRIPTION:May 25\, 2017\, 3:00 – 5:00 p.m. — Parent training for military families \nMay 26\, 2017\, 7:45 a.m. – 11:45 — Child Development Staff training \nFor more information:\nJan Saito\nExceptional Family Member Program Coordinator\nArmy Community Service\nUSAG-Rock Island Arsenal\n309-782-4736\njanice.n.saito.civ@mail.mil \nwww.riamwr.com/acs/exceptional-family-member-program/\n \n 
URL:https://out-of-sync-child.com/event/2-events-sponsored-by-rock-island-arsenal/
LOCATION:Rock Island Arsenal\, Rock Island\, IL
END:VEVENT
BEGIN:VEVENT
DTSTART;TZID=America/New_York:20170422T160000
DTEND;TZID=America/New_York:20170422T180000
DTSTAMP:20260419T133650
CREATED:20170109T222123Z
LAST-MODIFIED:20170209T143414Z
UID:10000010-1492876800-1492884000@out-of-sync-child.com
SUMMARY:The Out-of-Sync Child: Understanding SPD -- Sponsored by Adat Shalom Inclusion Advisory Group
DESCRIPTION:An overview of Sensory Processing Disorder\, how it affects children at school and home\, and what parents and teachers can do to help their “out-of-sync” children. \nFor members and friends of Adat Shalom Reconstructionist Congregation. \nStay tuned for details.
URL:https://out-of-sync-child.com/event/the-out-of-sync-child-understanding-spd-sponsored-by-adat-shalom-inclusion-advisory-group/
LOCATION:7727 Persimmon Tree Lane\, Bethesda\, MD\, United States
END:VEVENT
BEGIN:VEVENT
DTSTART;TZID=America/New_York:20170421T090000
DTEND;TZID=America/New_York:20170421T100000
DTSTAMP:20260419T133650
CREATED:20161109T231813Z
LAST-MODIFIED:20161206T193441Z
UID:10000015-1492765200-1492768800@out-of-sync-child.com
SUMMARY:80 Sensorimotor Ways to Help Out-of-Sync Kids Communicate\, Sponsored by ISHA
DESCRIPTION:Friday Keynote\nat the 2017 – 80th Annual Spring Convention of the Indiana Speech-Language-Hearing Association (ISHA):\n“Around the World in 80 Years — Celebrating the Art\, Science and Miracle of Communication”
URL:https://out-of-sync-child.com/event/80-or-so-sensorimotor-ways-to-help-out-of-sync-kids-communicate-sponsored-by-isha/
LOCATION:Sheraton Indianapolis City Centre\, Indianapolis\, IN
ORGANIZER;CN="Ann Ninness%2C Executive Director":MAILTO:ann@centraloffice1.com
END:VEVENT
BEGIN:VEVENT
DTSTART;VALUE=DATE:20170331
DTEND;VALUE=DATE:20170403
DTSTAMP:20260419T133650
CREATED:20160825T170028Z
LAST-MODIFIED:20170210T192907Z
UID:10000003-1490918400-1491177599@out-of-sync-child.com
SUMMARY:3 Events — Sponsored by Transformations Autism Treatment Center (TATC)
DESCRIPTION:KEYNOTE\, 12:30 – 1:30   The Out-of-Sync Child Grows Up: Sensory Challenges in Adolescence                                                                                                                                             Many children with autism resist participating in everyday activities or respond in unusual ways to ordinary sensations of touch and movement\, sights and sounds.  Having a hidden disability called Sensory Processing Disorder (SPD)\, these kids don’t behave as we expect – not because they won’t\, but because they can’t.  As they grow into adolescence\, so do their sensory issues.  With recognition and support\, out-of-sync teenagers can become more competent and confidant at home and school.\nBOOK SIGNING\, lunchtime\nBREAKOUT SESSION\, 1:45 – 2:35     From Breakfast to Bed: Strategies to Get through a Sensory-Soaked Day                                                                                                                             Three-dimensional\, hands-on\, body-on activities help children with autism develop sensory-motor skills\, as well as language and social skills.  Using simple equipment such as paper plates\, plastic bottles\, and bicycle inner tubes\, participants will learn enjoyable strategies to get kids moving and learning\, communicating and interacting.\n\nAt the Midsouth Autism Conference \nFor more information:\nJohn Holtzman\nConference Coordinator\nphone: (901) 481-2474\nemail: johnholtzman@transformingautism.com\nwebsite: www.transformingautism.com and www.midsouthautismconference.com
URL:http://www.midsouthautismconference.com#new_tab
LOCATION:The Guest House at Graceland\, Memphis\, TN
ORGANIZER;CN="John Holtzman":MAILTO:johnholtzman@transformingautism.com
END:VEVENT
BEGIN:VEVENT
DTSTART;VALUE=DATE:20170317
DTEND;VALUE=DATE:20170318
DTSTAMP:20260419T133650
CREATED:20160825T163330Z
LAST-MODIFIED:20170109T224150Z
UID:10000004-1489708800-1489795199@out-of-sync-child.com
SUMMARY:2 Events -- Sponsored by Association for the Education of Young Children - Southeast Alaska (AEYC-SEA)
DESCRIPTION:At a conference\, “Explore\, Engage\, Energize: Learning through the Senses” \nOpening keynote:  Sensory Challenges and Sensible Solutions\n8:45 – 10:00 a.m. \nWorkshop: The Out-of-Sync Child\n1:00 – 2:30 p.m. \nFor more information:\nJoy Lyon\, M.A.\nExecutive Director\, AEYC-SEA\n(907) 789-1235\njlyon@aeyc-sea.org \nhttp://www.aeyc-sea.org/index.html
URL:http://www.aeyc-sea.org/index.html#new_tab
LOCATION:Juneau\, Alaska
END:VEVENT
BEGIN:VEVENT
DTSTART;TZID=America/New_York:20170310T210000
DTEND;TZID=America/New_York:20170310T210000
DTSTAMP:20260419T133650
CREATED:20170109T223031Z
LAST-MODIFIED:20170118T181817Z
UID:10000009-1489179600-1489179600@out-of-sync-child.com
SUMMARY:Professional Development Day at St. Coletta Special Education Public Charter School
DESCRIPTION:Presentation for teachers and therapists at St. Coletta Special Education Public Charter School in Washington\, DC. \n(Carol is available for staff trainings at other centers\, schools and clinics.) \nhttp://www.stcoletta.org/
URL:http://www.stcoletta.org/#new_tab
END:VEVENT
BEGIN:VEVENT
DTSTART;TZID=America/New_York:20170228T080000
DTEND;TZID=America/New_York:20170228T170000
DTSTAMP:20260419T133650
CREATED:20170118T184603Z
LAST-MODIFIED:20170118T185026Z
UID:10000008-1488268800-1488301200@out-of-sync-child.com
SUMMARY:The Art of Treating the Out-of-Sync Child -- GWU Child Art Therapy class
DESCRIPTION:Workshop for The George Washington University Graduate School’s Child Art Therapy class \nTuesday\, February 28\, 2017 \nAlexandria\, Virginia \nClick here to learn more about this Art Therapy class.
URL:https://arttherapy.columbian.gwu.edu/#new_tab
LOCATION:Alexandria\, Virginia
END:VEVENT
BEGIN:VEVENT
DTSTART;TZID=America/New_York:20170220T090000
DTEND;TZID=America/New_York:20170220T120000
DTSTAMP:20260419T133650
CREATED:20161109T230220Z
LAST-MODIFIED:20161206T193711Z
UID:10000016-1487581200-1487592000@out-of-sync-child.com
SUMMARY:Catching Kids Before They Fall: Helping Children with SPD\,                                                                    Sponsored by BeanTree Learning
DESCRIPTION:For more information:\nPam Seifert\, Director of Curriculum and Instruction\nBeanTree Learning and The Pavilion at BeanTree\npseifert@beantreelearning.com\nphone: (703) 498-8823 \n 
URL:https://out-of-sync-child.com/event/catching-kids-before-they-fall-helping-children-with-spd-sponsored-by-beantree-learning/
LOCATION:BeanTree Learning and The Pavilion\, Ashburn\, VA
ORGANIZER;CN="Pam Seifert":MAILTO:pseifert@beantreelearning.com
END:VEVENT
BEGIN:VEVENT
DTSTART;TZID=America/New_York:20161119T170000
DTEND;TZID=America/New_York:20161119T220000
DTSTAMP:20260419T133650
CREATED:20160815T192716Z
LAST-MODIFIED:20161110T163120Z
UID:10000019-1479574800-1479592800@out-of-sync-child.com
SUMMARY:Panel Discussion at Starry Night Benefit for STAR Institute for SPD
DESCRIPTION:For more information:\nwebsite: www.spdstar.org\nBobby Vossoughi\nphone: (817) 277-2270\nemail:  bobby@bavventures.com
URL:https://out-of-sync-child.com/event/panel-discussion-at-starry-night-benefit-for-star-institute/
LOCATION:Scottsdale \, Arizona
ORGANIZER;CN="Bobby Vossoughi":MAILTO:bobby@bavventures.com
END:VEVENT
END:VCALENDAR